BEGIN:VCALENDAR
VERSION:2.0
PRODID:-//wp-events-plugin.com//7.2.3.1//EN
TZID:Europe/Berlin
X-WR-TIMEZONE:Europe/Berlin
BEGIN:VEVENT
UID:60@fasd-deutschland.de
DTSTART;TZID=Europe/Berlin:20250217T190000
DTEND;TZID=Europe/Berlin:20250217T210000
DTSTAMP:20250210T073330Z
URL:https://www.fasd-deutschland.de/veranstaltung/fasd-in-der-kinderneurol
 ogischen-praxis/
SUMMARY:FASD in der kinderneurologischen Praxis
DESCRIPTION:m\, Wir laden herzlich zum online-Fachforum „FASD in der kind
 erneurologischen Praxis" ein.\n\nReferent:\n\nHerr Dr. Lutz Krüger-Ruda\n
 \nFacharzt für Kinderheilkunde und Jugendmedizin\nSchwerpunkt Kinderneuro
 logie/Neuropädiatrie\nFachkunde Psychosomatik und Suchtmedizin\n\nAnmeldu
 ngen bitte unter anmeldung@fasd-deutschland\, Betreff: Fachforum Februar 2
 025
ATTACH;FMTTYPE=image/jpeg:https://www.fasd-deutschland.de/wp-content/uploa
 ds/2025/02/Fachforum_Februar_2025.jpg
CATEGORIES:Fachforum
LOCATION:mailto:anmeldung@fasd-deutschland.de
END:VEVENT
BEGIN:VTIMEZONE
TZID:Europe/Berlin
X-LIC-LOCATION:Europe/Berlin
BEGIN:STANDARD
DTSTART:20241027T020000
TZOFFSETFROM:+0200
TZOFFSETTO:+0100
TZNAME:CET
END:STANDARD
END:VTIMEZONE
END:VCALENDAR