BEGIN:VCALENDAR
VERSION:2.0
PRODID:-//wp-events-plugin.com//7.2.3.1//EN
TZID:Europe/Berlin
X-WR-TIMEZONE:Europe/Berlin
BEGIN:VEVENT
UID:12@fasd-deutschland.de
DTSTART;TZID=Europe/Berlin:20240911T193000
DTEND;TZID=Europe/Berlin:20240911T210000
DTSTAMP:20240716T164007Z
URL:https://www.fasd-deutschland.de/veranstaltung/oliver-hardenberg-liest-
 wir-haben-gute-gruende/
SUMMARY:Oliver Hardenberg liest "Wir haben gute Gründe"
DESCRIPTION:
CATEGORIES:Lesung
LOCATION:https://fasd-deutschland.webex.com/fasd-deutschland/j.php?MTID=m96
 fda618414f5bec462a27badf9db717
END:VEVENT
BEGIN:VTIMEZONE
TZID:Europe/Berlin
X-LIC-LOCATION:Europe/Berlin
BEGIN:DAYLIGHT
DTSTART:20240331T030000
TZOFFSETFROM:+0100
TZOFFSETTO:+0200
TZNAME:CEST
END:DAYLIGHT
END:VTIMEZONE
END:VCALENDAR