BEGIN:VCALENDAR
VERSION:2.0
PRODID:-//wp-events-plugin.com//7.2.3.1//EN
TZID:Europe/Berlin
X-WR-TIMEZONE:Europe/Berlin
BEGIN:VEVENT
UID:71@fasd-deutschland.de
DTSTART;TZID=Europe/Berlin:20250911T193000
DTEND;TZID=Europe/Berlin:20250911T210000
DTSTAMP:20250902T223513Z
URL:https://www.fasd-deutschland.de/veranstaltung/online-themenabend-fasd-
 und-trauma/
SUMMARY:online-Themenabend "FASD und Trauma"
DESCRIPTION:online-Themenabende für Vereinsmitglieder finden jeden ersten 
 Donnerstag im Monat statt. Die Beitrittserklärung finden Sie unter https:
 //www.fasd-deutschland.de/ueber-uns/#unterstuetzung
ATTACH;FMTTYPE=image/jpeg:https://www.fasd-deutschland.de/wp-content/uploa
 ds/2025/09/Themenabend_09_2025_Trauma.jpg
CATEGORIES:Online Themenabend
LOCATION:mailto:anmeldung@fasd-deutschland.de
END:VEVENT
BEGIN:VTIMEZONE
TZID:Europe/Berlin
X-LIC-LOCATION:Europe/Berlin
BEGIN:DAYLIGHT
DTSTART:20250330T030000
TZOFFSETFROM:+0100
TZOFFSETTO:+0200
TZNAME:CEST
END:DAYLIGHT
END:VTIMEZONE
END:VCALENDAR